

BEGIN:VCALENDAR
VERSION:2.0
PRODID:-//Macdonald-Laurier Institute - ECPv6.15.20//NONSGML v1.0//EN
CALSCALE:GREGORIAN
METHOD:PUBLISH
X-ORIGINAL-URL:https://macdonaldlaurier.ca
X-WR-CALDESC:Events for Macdonald-Laurier Institute
REFRESH-INTERVAL;VALUE=DURATION:PT1H
X-Robots-Tag:noindex
X-PUBLISHED-TTL:PT1H
BEGIN:VTIMEZONE
TZID:America/Toronto
BEGIN:DAYLIGHT
TZOFFSETFROM:-0500
TZOFFSETTO:-0400
TZNAME:EDT
DTSTART:20220313T070000
END:DAYLIGHT
BEGIN:STANDARD
TZOFFSETFROM:-0400
TZOFFSETTO:-0500
TZNAME:EST
DTSTART:20221106T060000
END:STANDARD
BEGIN:DAYLIGHT
TZOFFSETFROM:-0500
TZOFFSETTO:-0400
TZNAME:EDT
DTSTART:20230312T070000
END:DAYLIGHT
BEGIN:STANDARD
TZOFFSETFROM:-0400
TZOFFSETTO:-0500
TZNAME:EST
DTSTART:20231105T060000
END:STANDARD
BEGIN:DAYLIGHT
TZOFFSETFROM:-0500
TZOFFSETTO:-0400
TZNAME:EDT
DTSTART:20240310T070000
END:DAYLIGHT
BEGIN:STANDARD
TZOFFSETFROM:-0400
TZOFFSETTO:-0500
TZNAME:EST
DTSTART:20241103T060000
END:STANDARD
END:VTIMEZONE
BEGIN:VEVENT
DTSTART;TZID=America/Toronto:20230607T110000
DTEND;TZID=America/Toronto:20230607T123000
DTSTAMP:20260420T160117
CREATED:20230530T193147Z
LAST-MODIFIED:20240109T161317Z
UID:53707-1686135600-1686141000@macdonaldlaurier.ca
SUMMARY:Defend or defund? The future of the CBC
DESCRIPTION:A rapidly evolved media landscape has led to renewed calls for reform – or in some cases defunding – of the Canadian Broadcasting Corporation (CBC). What has changed in recent years that has led to these calls? What is the proper role of a public broadcaster in the digital age\, and how can the CBC best fulfill that role? And how does the CBC fit with the government’s other initiatives regarding cultural content and news? \nJoin us for an exclusive 90-minute webinar moderated by Aaron Wudrick\, Director of Domestic Policy Program at Macdonald-Laurier Institute (MLI). This webinar features industry experts including Globe and Mail columnist Andrew Coyne\, former CBC producer Tara Henley\, and MLI Senior Fellow Peter Menzies. \nEvent Details: \n\nDate: Wednesday\, June 7\, 2023\nTime: 11:00 am – 12:30 pm ET\n\nPlease note\, that all registered attendees will receive a post-event recording of the webinar. If you are unable to tune in live\, you can watch the recording at your convenience. \n\n\nSpeakers \n \nRegister for this webinar below: \n﻿﻿﻿﻿\n﻿ 
URL:https://macdonaldlaurier.ca/event/defend-or-defund-the-future-of-the-cbc/
ATTACH;FMTTYPE=image/jpeg:https://macdonaldlaurier.ca/wp-content/uploads/2023/05/20230526_CBC_WEBINAR_774x429.jpg
END:VEVENT
END:VCALENDAR